BEGIN:VCALENDAR
VERSION:2.0
PRODID:-//eventon.com NONSGML v1.0//EN
CALSCALE:GREGORIAN
METHOD:PUBLISH
BEGIN:VEVENT
UID:69eb840a04533
DTSTAMP:20260424T165402
DTSTART:20250808T203000Z
DTEND:20250809T000000Z
TZID:Europe/Paris
LOCATION:
SUMMARY:Orne (61) — Festival Les Résistantes
DESCRIPTION:\nhttps://theoarmen.com/events/orne-61-festival-les-resistantes/
URL:https://theoarmen.com/events/orne-61-festival-les-resistantes/
END:VEVENT
END:VCALENDAR