BEGIN:VCALENDAR
VERSION:2.0
PRODID:-//eventon.com NONSGML v1.0//EN
CALSCALE:GREGORIAN
METHOD:PUBLISH
BEGIN:VEVENT
UID:69eb840a03dfa
DTSTAMP:20260424T165402
DTSTART:20251010T200000Z
DTEND:20251011T003000Z
TZID:Europe/Paris
LOCATION:
SUMMARY:Cachan (94) — Médiathèque Toni Morrison
DESCRIPTION:\nhttps://theoarmen.com/events/cachan-94-mediatheque-toni-morrison/
URL:https://theoarmen.com/events/cachan-94-mediatheque-toni-morrison/
END:VEVENT
END:VCALENDAR