BEGIN:VCALENDAR
VERSION:2.0
PRODID:-//eventon.com NONSGML v1.0//EN
CALSCALE:GREGORIAN
METHOD:PUBLISH
BEGIN:VEVENT
UID:69eb84426bf15
DTSTAMP:20260424T165458
DTSTART:20250614T190000Z
DTEND:20250615T003000Z
TZID:Europe/Paris
LOCATION:
SUMMARY:Reims (51) — FESTIVAL La semaine prochaine
DESCRIPTION:\nhttps://theoarmen.com/events/reims-51-festival-la-semaine-prochaine/
URL:https://theoarmen.com/events/reims-51-festival-la-semaine-prochaine/
END:VEVENT
END:VCALENDAR