BEGIN:VCALENDAR
VERSION:2.0
PRODID:-//eventon.com NONSGML v1.0//EN
CALSCALE:GREGORIAN
METHOD:PUBLISH
BEGIN:VEVENT
UID:69eb84527d686
DTSTAMP:20260424T165514
DTSTART:20250502T203000Z
DTEND:20250503T002000Z
TZID:Europe/Paris
LOCATION:
SUMMARY:Paris (75) — Le Scénobar
DESCRIPTION:\nhttps://theoarmen.com/events/paris-75-le-scenobar-6/
URL:https://theoarmen.com/events/paris-75-le-scenobar-6/
END:VEVENT
END:VCALENDAR