BEGIN:VCALENDAR
VERSION:2.0
PRODID:-//eventon.com NONSGML v1.0//EN
CALSCALE:GREGORIAN
METHOD:PUBLISH
BEGIN:VEVENT
UID:69e73b6395255
DTSTAMP:20260421T105459
DTSTART:20240913T125900Z
DTEND:20240913T145900Z
TZID:Europe/Paris
LOCATION:
SUMMARY:Paris (75) — La Bellevilloise
DESCRIPTION:Je chante au Cabaret d&rsquo;Ivresse à l&rsquo;occasion de la soirée VendrediX !\nhttps://theoarmen.com/events/paris-75-la-bellevilloise-2/
URL:https://theoarmen.com/events/paris-75-la-bellevilloise-2/
END:VEVENT
END:VCALENDAR